BEGIN:VCALENDAR
PRODID:-//eluceo/ical//2.0/EN
VERSION:2.0
CALSCALE:GREGORIAN
BEGIN:VEVENT
UID:2a0bc21760b42c9067bd52e4effb738b
DTSTAMP:20260425T103847Z
SUMMARY:Besuch + Bilder der Internationalen Präsidentin Kay Morland
DESCRIPTION:
URL:https://innerwheel.ch/it/agenda/show/9007
DTSTART;TZID=Europe/Zurich:20260318T080000
DTEND;TZID=Europe/Zurich:20260510T235500
LOCATION:Diverse
CATEGORIES:Inner Wheel
END:VEVENT
BEGIN:VTIMEZONE
TZID:Europe/Zurich
BEGIN:STANDARD
DTSTART:20260318T080000
TZNAME:CET
TZOFFSETTO:+0100
TZOFFSETFROM:+0100
END:STANDARD
BEGIN:DAYLIGHT
DTSTART:20260329T030000
TZNAME:CEST
TZOFFSETTO:+0200
TZOFFSETFROM:+0100
END:DAYLIGHT
END:VTIMEZONE
END:VCALENDAR
